BEGIN:VCALENDAR
VERSION:2.0
X-WR-TIMEZONE:Europe/Budapest
PRODID:AWE3
CALSCALE:GREGORIAN
BEGIN:VTIMEZONE
TZID:Europe/Budapest
X-LIC-LOCATION:Europe/Budapest
BEGIN:STANDARD
DTSTART:20221030T030000
TZOFFSETFROM:+0200
TZOFFSETTO:+0100
RDATE:20231029T030000
TZNAME:CET
END:STANDARD
BEGIN:DAYLIGHT
DTSTART:20220327T020000
TZOFFSETFROM:+0100
TZOFFSETTO:+0200
RDATE:20230326T020000
TZNAME:CEST
END:DAYLIGHT
END:VTIMEZONE
BEGIN:VEVENT
CLASS:PUBLIC
UID:98f602ccc5390c05cd3bb83da45b02d5
TRANSP:TRANSPARENCY
SUMMARY:Diplomamunka/szakdolgozatvédések
DTSTART;TZID=Europe/Budapest:20230619T000000
DTEND;TZID=Europe/Budapest:20230620T010000
DESCRIPTION:Diplomamunka/szakdolgozatvédések: 2023. június 19-20.
X-ALT-DESC:<p>Diplomamunka/szakdolgozatvédések: 2023. június 19-20.</p>
LOCATION:
URL:https://fmk.uni-sopron.hu/icalendar/event/ice_id/91
END:VEVENT
END:VCALENDAR
