BEGIN:VCALENDAR
VERSION:2.0
X-WR-TIMEZONE:Europe/Budapest
PRODID:AWE3
CALSCALE:GREGORIAN
BEGIN:VTIMEZONE
TZID:Europe/Budapest
X-LIC-LOCATION:Europe/Budapest
BEGIN:STANDARD
DTSTART:20221030T030000
TZOFFSETFROM:+0200
TZOFFSETTO:+0100
RDATE:20231029T030000
TZNAME:CET
END:STANDARD
BEGIN:DAYLIGHT
DTSTART:20220327T020000
TZOFFSETFROM:+0100
TZOFFSETTO:+0200
RDATE:20230326T020000
TZNAME:CEST
END:DAYLIGHT
END:VTIMEZONE
BEGIN:VEVENT
CLASS:PUBLIC
UID:46820fec0d9e3e23e9c3c57bfbf9949b
TRANSP:TRANSPARENCY
SUMMARY:Vizsgaidőszak
DTSTART;TZID=Europe/Budapest:20230605T000000
DTEND;TZID=Europe/Budapest:20230708T010000
DESCRIPTION:Vizsgaidőszak: 2023. június 5. – július 8.
X-ALT-DESC:<p>Vizsgaidőszak: 2023. június 5. – július 8.</p>
LOCATION:
URL:https://fmk.uni-sopron.hu/icalendar/event/ice_id/89
END:VEVENT
END:VCALENDAR
