BEGIN:VCALENDAR
VERSION:2.0
X-WR-TIMEZONE:Europe/Budapest
PRODID:AWE3
CALSCALE:GREGORIAN
BEGIN:VTIMEZONE
TZID:Europe/Budapest
X-LIC-LOCATION:Europe/Budapest
BEGIN:STANDARD
DTSTART:20221030T030000
TZOFFSETFROM:+0200
TZOFFSETTO:+0100
RDATE:20231029T030000
TZNAME:CET
END:STANDARD
BEGIN:DAYLIGHT
DTSTART:20220327T020000
TZOFFSETFROM:+0100
TZOFFSETTO:+0200
RDATE:20230326T020000
TZNAME:CEST
END:DAYLIGHT
END:VTIMEZONE
BEGIN:VEVENT
CLASS:PUBLIC
UID:b1496583d87ca6c8aea73dc76a1ff905
TRANSP:TRANSPARENCY
SUMMARY:Záróvizsgára történő jelentkezés
DTSTART;TZID=Europe/Budapest:20230320T000000
DTEND;TZID=Europe/Budapest:20230406T010000
DESCRIPTION:Záróvizsgára történő jelentkezés: 2023. március 20. - április 6.
X-ALT-DESC:<p>Záróvizsgára történő jelentkezés: 2023. március 20. - április 6.</p>
LOCATION:
URL:https://fmk.uni-sopron.hu/icalendar/event/ice_id/75
END:VEVENT
END:VCALENDAR
