BEGIN:VCALENDAR
VERSION:2.0
X-WR-TIMEZONE:Europe/Budapest
PRODID:AWE3
CALSCALE:GREGORIAN
BEGIN:VTIMEZONE
TZID:Europe/Budapest
X-LIC-LOCATION:Europe/Budapest
BEGIN:STANDARD
DTSTART:20221030T030000
TZOFFSETFROM:+0200
TZOFFSETTO:+0100
RDATE:20231029T030000
TZNAME:CET
END:STANDARD
BEGIN:DAYLIGHT
DTSTART:20220327T020000
TZOFFSETFROM:+0100
TZOFFSETTO:+0200
RDATE:20230326T020000
TZNAME:CEST
END:DAYLIGHT
END:VTIMEZONE
BEGIN:VEVENT
CLASS:PUBLIC
UID:10c7687c177c0b44dd6f363ff41859cf
TRANSP:TRANSPARENCY
SUMMARY:Regisztrációs időszak
DTSTART;TZID=Europe/Budapest:20230201T000000
DTEND;TZID=Europe/Budapest:20230225T010000
DESCRIPTION:Regisztrációs időszak (duális gyakorlat, szakma gyakorlat a regisztrációs időszakban is teljesíthető): 2023. február 1. – február 25.
X-ALT-DESC:<p>Regisztrációs időszak (duális gyakorlat, szakma gyakorlat a regisztrációs időszakban is teljesíthető): 2023. február 1. – február 25.</p>
LOCATION:
URL:https://fmk.uni-sopron.hu/icalendar/event/ice_id/66
END:VEVENT
END:VCALENDAR
