BEGIN:VCALENDAR
VERSION:2.0
X-WR-TIMEZONE:Europe/Budapest
PRODID:AWE3
CALSCALE:GREGORIAN
BEGIN:VTIMEZONE
TZID:Europe/Budapest
X-LIC-LOCATION:Europe/Budapest
BEGIN:STANDARD
DTSTART:20221030T030000
TZOFFSETFROM:+0200
TZOFFSETTO:+0100
RDATE:20231029T030000
TZNAME:CET
END:STANDARD
BEGIN:DAYLIGHT
DTSTART:20220327T020000
TZOFFSETFROM:+0100
TZOFFSETTO:+0200
RDATE:20230326T020000
TZNAME:CEST
END:DAYLIGHT
END:VTIMEZONE
BEGIN:VEVENT
CLASS:PUBLIC
UID:36fc21272f104dfe577b8510bd019ca2
TRANSP:TRANSPARENCY
SUMMARY:Tanévzáró (diplomaátadó) ünnepség
DTSTART;TZID=Europe/Budapest:20260625T100000
DTEND;TZID=Europe/Budapest:20260625T120000
DESCRIPTION:Tanévzáró (diplomaátadó) ünnepség: 2026. június 25. 10:00 óra
X-ALT-DESC:<p>Tanévzáró (diplomaátadó) ünnepség: 2026. június 25. 10:00 óra</p>
LOCATION:
URL:https://fmk.uni-sopron.hu/icalendar/event/ice_id/398
END:VEVENT
END:VCALENDAR
