BEGIN:VCALENDAR
VERSION:2.0
X-WR-TIMEZONE:Europe/Budapest
PRODID:AWE3
CALSCALE:GREGORIAN
BEGIN:VTIMEZONE
TZID:Europe/Budapest
X-LIC-LOCATION:Europe/Budapest
BEGIN:STANDARD
DTSTART:20221030T030000
TZOFFSETFROM:+0200
TZOFFSETTO:+0100
RDATE:20231029T030000
TZNAME:CET
END:STANDARD
BEGIN:DAYLIGHT
DTSTART:20220327T020000
TZOFFSETFROM:+0100
TZOFFSETTO:+0200
RDATE:20230326T020000
TZNAME:CEST
END:DAYLIGHT
END:VTIMEZONE
BEGIN:VEVENT
CLASS:PUBLIC
UID:5ca69c82d4fa59d2b23017d827fe878f
TRANSP:TRANSPARENCY
SUMMARY:Szakmai hét
DTSTART;TZID=Europe/Budapest:20240402T000000
DTEND;TZID=Europe/Budapest:20240405T010000
DESCRIPTION:Szakmai hét: 2024. április 2 - 5.
X-ALT-DESC:<p>Szakmai hét: 2024. április 2 - 5.</p>
LOCATION:
URL:https://fmk.uni-sopron.hu/icalendar/event/ice_id/242
END:VEVENT
END:VCALENDAR
