BEGIN:VCALENDAR
VERSION:2.0
X-WR-TIMEZONE:Europe/Budapest
PRODID:AWE3
CALSCALE:GREGORIAN
BEGIN:VTIMEZONE
TZID:Europe/Budapest
X-LIC-LOCATION:Europe/Budapest
BEGIN:STANDARD
DTSTART:20221030T030000
TZOFFSETFROM:+0200
TZOFFSETTO:+0100
RDATE:20231029T030000
TZNAME:CET
END:STANDARD
BEGIN:DAYLIGHT
DTSTART:20220327T020000
TZOFFSETFROM:+0100
TZOFFSETTO:+0200
RDATE:20230326T020000
TZNAME:CEST
END:DAYLIGHT
END:VTIMEZONE
BEGIN:VEVENT
CLASS:PUBLIC
UID:bb0092844117e2c074e37c2eb13a2256
TRANSP:TRANSPARENCY
SUMMARY:Vizsgaidőszak végzősöknek
DTSTART;TZID=Europe/Budapest:20240108T000000
DTEND;TZID=Europe/Budapest:20240110T010000
DESCRIPTION:Vizsgaidőszak végzősöknek: 2023. december 4. – 2024. január 10.
X-ALT-DESC:<p>Vizsgaidőszak végzősöknek: 2023. december 4. – 2024. január 10.</p>
LOCATION:
URL:https://fmk.uni-sopron.hu/icalendar/event/ice_id/221
END:VEVENT
END:VCALENDAR
